BEGIN:VCALENDAR
VERSION:2.0
PRODID:-//Shaolin Lomita - ECPv5.9.2//NONSGML v1.0//EN
CALSCALE:GREGORIAN
METHOD:PUBLISH
X-WR-CALNAME:Shaolin Lomita
X-ORIGINAL-URL:https://shaolinlomita.com
X-WR-CALDESC:Events for Shaolin Lomita
BEGIN:VTIMEZONE
TZID:America/Los_Angeles
BEGIN:DAYLIGHT
TZOFFSETFROM:-0800
TZOFFSETTO:-0700
TZNAME:PDT
DTSTART:20180311T100000
END:DAYLIGHT
BEGIN:STANDARD
TZOFFSETFROM:-0700
TZOFFSETTO:-0800
TZNAME:PST
DTSTART:20181104T090000
END:STANDARD
END:VTIMEZONE
BEGIN:VEVENT
DTSTART;TZID=America/Los_Angeles:20180130T193000
DTEND;TZID=America/Los_Angeles:20180130T213000
DTSTAMP:20260425T033052
CREATED:20180119T031745Z
LAST-MODIFIED:20180119T031934Z
UID:5167-1517340600-1517347800@shaolinlomita.com
SUMMARY:Chinese New Year's Clippers vs Trailblazers
DESCRIPTION:Chinese_Heritage_flyer \nChinese New Year’s with the Clippers vs. Trailblazers at the Staples Center at 7:30pm on Jan. 30th tickets are on sale but the deadline for group is Jan. 24th so call and order now advance payment for the tickets. \nLevel 100 $72  \nLevel 200 $43   \nLevel 300 $27
URL:https://shaolinlomita.com/event/chinese-new-years-clippers-vs-trailblazers/
LOCATION:Chinese New Year’s
END:VEVENT
END:VCALENDAR