BEGIN:VCALENDAR
VERSION:2.0
PRODID:-//Shaolin Lomita - ECPv5.9.2//NONSGML v1.0//EN
CALSCALE:GREGORIAN
METHOD:PUBLISH
X-WR-CALNAME:Shaolin Lomita
X-ORIGINAL-URL:https://shaolinlomita.com
X-WR-CALDESC:Events for Shaolin Lomita
BEGIN:VTIMEZONE
TZID:America/Los_Angeles
BEGIN:DAYLIGHT
TZOFFSETFROM:-0800
TZOFFSETTO:-0700
TZNAME:PDT
DTSTART:20180311T100000
END:DAYLIGHT
BEGIN:STANDARD
TZOFFSETFROM:-0700
TZOFFSETTO:-0800
TZNAME:PST
DTSTART:20181104T090000
END:STANDARD
END:VTIMEZONE
BEGIN:VEVENT
DTSTART;TZID=America/Los_Angeles:20180216T101500
DTEND;TZID=America/Los_Angeles:20180216T103000
DTSTAMP:20260425T130523
CREATED:20171214T205039Z
LAST-MODIFIED:20180126T224629Z
UID:4071-1518776100-1518777000@shaolinlomita.com
SUMMARY:Park Regency Care Center - Chinese New Year's
DESCRIPTION:  \n  \n1 Chinese Lion Dance & Buddha for Chinese New Year’s at the Park Regency Care Center in La Habra.
URL:https://shaolinlomita.com/event/chinese-new-years-park-regency-care-center/
LOCATION:Chinese New Year’s
END:VEVENT
END:VCALENDAR