BEGIN:VCALENDAR
VERSION:2.0
PRODID:-//Shaolin Lomita - ECPv5.9.2//NONSGML v1.0//EN
CALSCALE:GREGORIAN
METHOD:PUBLISH
X-WR-CALNAME:Shaolin Lomita
X-ORIGINAL-URL:https://shaolinlomita.com
X-WR-CALDESC:Events for Shaolin Lomita
BEGIN:VTIMEZONE
TZID:America/Los_Angeles
BEGIN:DAYLIGHT
TZOFFSETFROM:-0800
TZOFFSETTO:-0700
TZNAME:PDT
DTSTART:20180311T100000
END:DAYLIGHT
BEGIN:STANDARD
TZOFFSETFROM:-0700
TZOFFSETTO:-0800
TZNAME:PST
DTSTART:20181104T090000
END:STANDARD
END:VTIMEZONE
BEGIN:VEVENT
DTSTART;TZID=America/Los_Angeles:20180215T100000
DTEND;TZID=America/Los_Angeles:20180215T101500
DTSTAMP:20260425T080748
CREATED:20180203T231410Z
LAST-MODIFIED:20180209T202513Z
UID:5243-1518688800-1518689700@shaolinlomita.com
SUMMARY:Riviera United Methodist Church - Chinese New Year's
DESCRIPTION:  \nAt the Riviera United Methodist Church – The Village Children’s Center Pre School will celebrate the \nChinese New Year’s with the Lion Dancer’s from the STKF in Redondo Beach.
URL:https://shaolinlomita.com/event/riviera-united-methodist-church-chinese-new-years/
LOCATION:Chinese New Year’s
END:VEVENT
END:VCALENDAR