BEGIN:VCALENDAR
VERSION:2.0
PRODID:-//Shaolin Lomita - ECPv5.9.2//NONSGML v1.0//EN
CALSCALE:GREGORIAN
METHOD:PUBLISH
X-WR-CALNAME:Shaolin Lomita
X-ORIGINAL-URL:https://shaolinlomita.com
X-WR-CALDESC:Events for Shaolin Lomita
BEGIN:VTIMEZONE
TZID:America/Los_Angeles
BEGIN:DAYLIGHT
TZOFFSETFROM:-0800
TZOFFSETTO:-0700
TZNAME:PDT
DTSTART:20200308T100000
END:DAYLIGHT
BEGIN:STANDARD
TZOFFSETFROM:-0700
TZOFFSETTO:-0800
TZNAME:PST
DTSTART:20201101T090000
END:STANDARD
BEGIN:DAYLIGHT
TZOFFSETFROM:-0800
TZOFFSETTO:-0700
TZNAME:PDT
DTSTART:20210314T100000
END:DAYLIGHT
BEGIN:STANDARD
TZOFFSETFROM:-0700
TZOFFSETTO:-0800
TZNAME:PST
DTSTART:20211107T090000
END:STANDARD
END:VTIMEZONE
BEGIN:VEVENT
DTSTART;VALUE=DATE:20200316
DTEND;VALUE=DATE:20210130
DTSTAMP:20260425T042416
CREATED:20200320T201402Z
LAST-MODIFIED:20201130T022021Z
UID:6106-1584316800-1611964799@shaolinlomita.com
SUMMARY:School Closed - Coronavirus 19
DESCRIPTION:The school is temporary closed for the Coronavirus 19. \nEvery Saturday we will be at the Torrance Park in Torrance on Arlington & Lincoln near the parking lot for the park. \nTai Chi class 1:30pm – 2:30pm \nKung Fu class 2:30pm – 3:30pm  Adult & Kids \nWe will be on the Arlington side so park there and bring your Mask. \n  \nOpening of the school \nSept. 21\, 2020 we will be having classes at the school on these days: \nMonday Kung Fu Class 12noon – 1:30pm \nMonday Tai Chi Class 7pm – 8:30pm \nTuesday Kung Fu Class 7pm – 8:30pm \nWednesday Kung Fu Class 5:30pm – 7pm \nThursday Kids Kung Fu 5:30pm – 7pm \n 
URL:https://shaolinlomita.com/event/school-closed-coronavirus-19/
END:VEVENT
END:VCALENDAR