BEGIN:VCALENDAR
VERSION:2.0
PRODID:-//Shaolin Lomita - ECPv5.9.2//NONSGML v1.0//EN
CALSCALE:GREGORIAN
METHOD:PUBLISH
X-WR-CALNAME:Shaolin Lomita
X-ORIGINAL-URL:https://shaolinlomita.com
X-WR-CALDESC:Events for Shaolin Lomita
BEGIN:VTIMEZONE
TZID:America/Los_Angeles
BEGIN:DAYLIGHT
TZOFFSETFROM:-0800
TZOFFSETTO:-0700
TZNAME:PDT
DTSTART:20200308T100000
END:DAYLIGHT
BEGIN:STANDARD
TZOFFSETFROM:-0700
TZOFFSETTO:-0800
TZNAME:PST
DTSTART:20201101T090000
END:STANDARD
END:VTIMEZONE
BEGIN:VEVENT
DTSTART;TZID=America/Los_Angeles:20200229T110000
DTEND;TZID=America/Los_Angeles:20200229T140000
DTSTAMP:20260425T071110
CREATED:20191024T184429Z
LAST-MODIFIED:20191206T004857Z
UID:6002-1582974000-1582984800@shaolinlomita.com
SUMMARY:Shaolin Workshop in Ensenada Mexico
DESCRIPTION:Will be teaching Shaolin #6 \nWill be teaching Shaolin #6 – Tun Da – Short Strike in Ensenada Mexico \nShifu Ivan Damasco
URL:https://shaolinlomita.com/event/shaolin-workshop-in-ensenada-mexico/
LOCATION:Ensenada Mexico\, Ensenada Mexico
END:VEVENT
END:VCALENDAR