BEGIN:VCALENDAR
VERSION:2.0
PRODID:-//Shaolin Lomita - ECPv5.9.2//NONSGML v1.0//EN
CALSCALE:GREGORIAN
METHOD:PUBLISH
X-WR-CALNAME:Shaolin Lomita
X-ORIGINAL-URL:https://shaolinlomita.com
X-WR-CALDESC:Events for Shaolin Lomita
BEGIN:VTIMEZONE
TZID:America/Los_Angeles
BEGIN:DAYLIGHT
TZOFFSETFROM:-0800
TZOFFSETTO:-0700
TZNAME:PDT
DTSTART:20180311T100000
END:DAYLIGHT
BEGIN:STANDARD
TZOFFSETFROM:-0700
TZOFFSETTO:-0800
TZNAME:PST
DTSTART:20181104T090000
END:STANDARD
END:VTIMEZONE
BEGIN:VEVENT
DTSTART;TZID=America/Los_Angeles:20181118T130000
DTEND;TZID=America/Los_Angeles:20181118T131500
DTSTAMP:20260425T045333
CREATED:20180930T213357Z
LAST-MODIFIED:20181008T231917Z
UID:5588-1542546000-1542546900@shaolinlomita.com
SUMMARY:Wedding - Burbank
DESCRIPTION:STKF will be performing at the wedding \nCalamigos Equestrian \n480 Riverside Dr\, Burbank\, CA 90027
URL:https://shaolinlomita.com/event/wedding-burbank/
LOCATION:Wedding – Burbank\, 480 Riverside Drive\, Burbank\, CA\, 90027\, United States
END:VEVENT
END:VCALENDAR